Package: biodbExpasy Version: 1.10.0 Command: F:\biocbuild\bbs-3.20-bioc\R\bin\R.exe CMD INSTALL biodbExpasy StartedAt: 2025-01-30 15:56:28 -0500 (Thu, 30 Jan 2025) EndedAt: 2025-01-30 15:56:44 -0500 (Thu, 30 Jan 2025) EllapsedTime: 15.8 seconds RetCode: 0 Status: OK