Package: biodbExpasy Version: 1.10.0 Command: F:\biocbuild\bbs-3.20-bioc\R\bin\R.exe CMD check --no-multiarch --install=check:biodbExpasy.install-out.txt --library=F:\biocbuild\bbs-3.20-bioc\R\library --no-vignettes --timings biodbExpasy_1.10.0.tar.gz StartedAt: 2025-01-30 23:50:35 -0500 (Thu, 30 Jan 2025) EndedAt: 2025-01-30 23:54:47 -0500 (Thu, 30 Jan 2025) EllapsedTime: 252.0 seconds RetCode: 1 Status: ERROR CheckDir: biodbExpasy.Rcheck Warnings: NA