Package: biodbExpasy Version: 1.10.0 Command: chmod a+r biodbExpasy -R && F:\biocbuild\bbs-3.20-bioc\R\bin\R.exe CMD build --keep-empty-dirs --no-resave-data biodbExpasy StartedAt: 2025-01-30 17:35:09 -0500 (Thu, 30 Jan 2025) EndedAt: 2025-01-30 17:37:02 -0500 (Thu, 30 Jan 2025) EllapsedTime: 112.6 seconds RetCode: 0 Status: OK PackageFile: biodbExpasy_1.10.0.tar.gz PackageFileSize: 304.1 KiB