Package: biodbChebi Version: 1.12.0 Command: /home/biocbuild/R/R/bin/R CMD check --install=check:biodbChebi.install-out.txt --library=/home/biocbuild/R/R/site-library --no-vignettes --timings biodbChebi_1.12.0.tar.gz StartedAt: 2025-01-31 04:13:34 -0000 (Fri, 31 Jan 2025) EndedAt: 2025-01-31 04:26:42 -0000 (Fri, 31 Jan 2025) EllapsedTime: 787.6 seconds RetCode: 0 Status: OK CheckDir: biodbChebi.Rcheck Warnings: 0