Package: biocroxytest Version: 1.2.0 Command: /home/biocbuild/R/R/bin/R CMD build --keep-empty-dirs --no-resave-data biocroxytest StartedAt: 2025-01-30 22:01:00 -0000 (Thu, 30 Jan 2025) EndedAt: 2025-01-30 22:01:07 -0000 (Thu, 30 Jan 2025) EllapsedTime: 7.0 seconds RetCode: 0 Status: OK PackageFile: biocroxytest_1.2.0.tar.gz PackageFileSize: 2.494 MiB