Package: biocroxytest Version: 1.2.0 Command: /Library/Frameworks/R.framework/Resources/bin/R CMD build --keep-empty-dirs --no-resave-data biocroxytest StartedAt: 2025-01-30 19:40:42 -0500 (Thu, 30 Jan 2025) EndedAt: 2025-01-30 19:40:50 -0500 (Thu, 30 Jan 2025) EllapsedTime: 8.1 seconds RetCode: 0 Status: OK PackageFile: biocroxytest_1.2.0.tar.gz PackageFileSize: 2.493 MiB