Package: bgx Version: 1.72.0 Command: /home/biocbuild/bbs-3.20-bioc/R/bin/R CMD INSTALL bgx StartedAt: 2025-01-30 15:11:38 -0500 (Thu, 30 Jan 2025) EndedAt: 2025-01-30 15:12:02 -0500 (Thu, 30 Jan 2025) EllapsedTime: 24.4 seconds RetCode: 0 Status: OK