Package: bgx Version: 1.72.0 Command: /Library/Frameworks/R.framework/Resources/bin/R CMD check --install=check:bgx.install-out.txt --library=/Library/Frameworks/R.framework/Resources/library --no-vignettes --timings bgx_1.72.0.tar.gz StartedAt: 2025-01-31 00:37:40 -0500 (Fri, 31 Jan 2025) EndedAt: 2025-01-31 00:40:56 -0500 (Fri, 31 Jan 2025) EllapsedTime: 195.9 seconds RetCode: 0 Status: WARNINGS CheckDir: bgx.Rcheck Warnings: 1