Package: bgx Version: 1.72.0 Command: rm -rf bgx.buildbin-libdir && mkdir bgx.buildbin-libdir && /Users/biocbuild/BBS/utils/build-universal.sh bgx_1.72.0.tar.gz /Library/Frameworks/R.framework/Resources/bin/R bgx.buildbin-libdir StartedAt: 2025-01-31 12:23:21 -0500 (Fri, 31 Jan 2025) EndedAt: 2025-01-31 12:24:36 -0500 (Fri, 31 Jan 2025) EllapsedTime: 75.3 seconds RetCode: 0 Status: OK PackageFile: bgx_1.72.0.tgz PackageFileSize: 401.1 KiB