Package: bgx Version: 1.72.0 Command: /Library/Frameworks/R.framework/Resources/bin/R CMD build --keep-empty-dirs --no-resave-data bgx StartedAt: 2024-11-08 16:08:34 -0500 (Fri, 08 Nov 2024) EndedAt: 2024-11-08 16:08:53 -0500 (Fri, 08 Nov 2024) EllapsedTime: 19.2 seconds RetCode: 0 Status: OK PackageFile: bgx_1.72.0.tar.gz PackageFileSize: 2.62 MiB