Package: betaHMM Version: 1.2.1 Command: F:\biocbuild\bbs-3.20-bioc\R\bin\R.exe CMD check --no-multiarch --install=check:betaHMM.install-out.txt --library=F:\biocbuild\bbs-3.20-bioc\R\library --no-vignettes --timings betaHMM_1.2.1.tar.gz StartedAt: 2025-01-30 23:40:23 -0500 (Thu, 30 Jan 2025) EndedAt: 2025-01-30 23:56:25 -0500 (Thu, 30 Jan 2025) EllapsedTime: 962.1 seconds RetCode: 0 Status: OK CheckDir: betaHMM.Rcheck Warnings: 0