Package: betaHMM Version: 1.2.1 Command: /home/biocbuild/bbs-3.20-bioc/R/bin/R CMD build --keep-empty-dirs --no-resave-data --md5 betaHMM StartedAt: 2025-01-30 16:20:28 -0500 (Thu, 30 Jan 2025) EndedAt: 2025-01-30 16:25:09 -0500 (Thu, 30 Jan 2025) EllapsedTime: 281.2 seconds RetCode: 0 Status: OK PackageFile: betaHMM_1.2.1.tar.gz PackageFileSize: 3.842 MiB