Package: benchdamic Version: 1.12.2 Command: /home/biocbuild/bbs-3.20-bioc/R/bin/R CMD check --install=check:benchdamic.install-out.txt --library=/home/biocbuild/bbs-3.20-bioc/R/site-library --timings benchdamic_1.12.2.tar.gz StartedAt: 2025-01-30 20:09:23 -0500 (Thu, 30 Jan 2025) EndedAt: 2025-01-30 20:38:21 -0500 (Thu, 30 Jan 2025) EllapsedTime: 1737.6 seconds RetCode: 0 Status: OK CheckDir: benchdamic.Rcheck Warnings: 0