Package: benchdamic Version: 1.12.2 Command: /home/biocbuild/bbs-3.20-bioc/R/bin/R CMD build --keep-empty-dirs --no-resave-data --md5 benchdamic StartedAt: 2025-01-30 16:20:13 -0500 (Thu, 30 Jan 2025) EndedAt: 2025-01-30 16:40:05 -0500 (Thu, 30 Jan 2025) EllapsedTime: 1192.3 seconds RetCode: 0 Status: OK PackageFile: benchdamic_1.12.2.tar.gz PackageFileSize: 5.454 MiB