Package: beachmat.hdf5 Version: 1.4.0 Command: /home/biocbuild/bbs-3.20-bioc/R/bin/R CMD INSTALL beachmat.hdf5 StartedAt: 2024-11-19 15:34:32 -0500 (Tue, 19 Nov 2024) EndedAt: 2024-11-19 15:35:35 -0500 (Tue, 19 Nov 2024) EllapsedTime: 63.1 seconds RetCode: 0 Status: OK