Package: beachmat.hdf5 Version: 1.4.0 Command: /home/biocbuild/bbs-3.20-bioc/R/bin/R CMD build --keep-empty-dirs --no-resave-data --md5 beachmat.hdf5 StartedAt: 2025-01-30 16:19:04 -0500 (Thu, 30 Jan 2025) EndedAt: 2025-01-30 16:20:24 -0500 (Thu, 30 Jan 2025) EllapsedTime: 79.1 seconds RetCode: 0 Status: OK PackageFile: beachmat.hdf5_1.4.0.tar.gz PackageFileSize: 296.7 KiB