Package: beachmat.hdf5 Version: 1.4.0 Command: /Library/Frameworks/R.framework/Resources/bin/R CMD INSTALL beachmat.hdf5 StartedAt: 2025-01-30 15:21:10 -0500 (Thu, 30 Jan 2025) EndedAt: 2025-01-30 15:23:05 -0500 (Thu, 30 Jan 2025) EllapsedTime: 115.2 seconds RetCode: 0 Status: OK