Package: beachmat.hdf5 Version: 1.4.0 Command: /Library/Frameworks/R.framework/Resources/bin/R CMD INSTALL beachmat.hdf5 StartedAt: 2024-11-19 15:14:07 -0500 (Tue, 19 Nov 2024) EndedAt: 2024-11-19 15:15:18 -0500 (Tue, 19 Nov 2024) EllapsedTime: 71.0 seconds RetCode: 0 Status: OK