Package: bcSeq Version: 1.28.0 Command: /home/biocbuild/R/R/bin/R CMD check --install=check:bcSeq.install-out.txt --library=/home/biocbuild/R/R/site-library --no-vignettes --timings bcSeq_1.28.0.tar.gz StartedAt: 2025-01-31 04:03:07 -0000 (Fri, 31 Jan 2025) EndedAt: 2025-01-31 04:05:08 -0000 (Fri, 31 Jan 2025) EllapsedTime: 121.1 seconds RetCode: 0 Status: WARNINGS CheckDir: bcSeq.Rcheck Warnings: 1