Package: bcSeq Version: 1.28.0 Command: F:\biocbuild\bbs-3.20-bioc\R\bin\R.exe CMD check --no-multiarch --install=check:bcSeq.install-out.txt --library=F:\biocbuild\bbs-3.20-bioc\R\library --no-vignettes --timings bcSeq_1.28.0.tar.gz StartedAt: 2025-01-30 23:36:59 -0500 (Thu, 30 Jan 2025) EndedAt: 2025-01-30 23:39:10 -0500 (Thu, 30 Jan 2025) EllapsedTime: 131.1 seconds RetCode: 0 Status: WARNINGS CheckDir: bcSeq.Rcheck Warnings: 1