Package: baySeq Version: 2.39.0 Command: F:\biocbuild\bbs-3.20-bioc\R\bin\R.exe CMD INSTALL baySeq StartedAt: 2024-06-09 15:50:02 -0400 (Sun, 09 Jun 2024) EndedAt: 2024-06-09 15:50:29 -0400 (Sun, 09 Jun 2024) EllapsedTime: 27.3 seconds RetCode: 0 Status: OK