Package: bamsignals Version: 1.38.0 Command: F:\biocbuild\bbs-3.20-bioc\R\bin\R.exe CMD INSTALL bamsignals StartedAt: 2025-01-30 15:35:47 -0500 (Thu, 30 Jan 2025) EndedAt: 2025-01-30 15:36:32 -0500 (Thu, 30 Jan 2025) EllapsedTime: 45.2 seconds RetCode: 0 Status: OK