Package: bambu Version: 3.8.0 Command: /Library/Frameworks/R.framework/Resources/bin/R CMD INSTALL bambu StartedAt: 2025-01-30 15:40:24 -0500 (Thu, 30 Jan 2025) EndedAt: 2025-01-30 15:42:20 -0500 (Thu, 30 Jan 2025) EllapsedTime: 115.6 seconds RetCode: 0 Status: OK