Package: bambu Version: 3.8.0 Command: /Library/Frameworks/R.framework/Resources/bin/R CMD check --install=check:bambu.install-out.txt --library=/Library/Frameworks/R.framework/Resources/library --no-vignettes --timings bambu_3.8.0.tar.gz StartedAt: 2025-01-31 00:23:59 -0500 (Fri, 31 Jan 2025) EndedAt: 2025-01-31 00:40:44 -0500 (Fri, 31 Jan 2025) EllapsedTime: 1004.9 seconds RetCode: 0 Status: OK CheckDir: bambu.Rcheck Warnings: 0