Package: bambu Version: 3.8.0 Command: /Library/Frameworks/R.framework/Resources/bin/R CMD INSTALL bambu StartedAt: 2025-01-30 16:09:09 -0500 (Thu, 30 Jan 2025) EndedAt: 2025-01-30 16:10:11 -0500 (Thu, 30 Jan 2025) EllapsedTime: 61.3 seconds RetCode: 0 Status: OK