Package: awst Version: 1.14.0 Command: F:\biocbuild\bbs-3.20-bioc\R\bin\R.exe CMD check --no-multiarch --install=check:awst.install-out.txt --library=F:\biocbuild\bbs-3.20-bioc\R\library --no-vignettes --timings awst_1.14.0.tar.gz StartedAt: 2025-01-30 23:29:28 -0500 (Thu, 30 Jan 2025) EndedAt: 2025-01-30 23:32:16 -0500 (Thu, 30 Jan 2025) EllapsedTime: 167.9 seconds RetCode: 0 Status: OK CheckDir: awst.Rcheck Warnings: 0