Package: autonomics Version: 1.14.8 Command: rm -rf autonomics.buildbin-libdir && mkdir autonomics.buildbin-libdir && F:\biocbuild\bbs-3.20-bioc\R\bin\R.exe CMD INSTALL --build --library=autonomics.buildbin-libdir autonomics_1.14.8.tar.gz StartedAt: 2025-01-31 08:10:23 -0500 (Fri, 31 Jan 2025) EndedAt: 2025-01-31 08:13:54 -0500 (Fri, 31 Jan 2025) EllapsedTime: 210.3 seconds RetCode: 0 Status: OK PackageFile: autonomics_1.14.8.zip PackageFileSize: 2.289 MiB