Package: autonomics Version: 1.14.8 Command: /Library/Frameworks/R.framework/Resources/bin/R CMD check --install=check:autonomics.install-out.txt --library=/Library/Frameworks/R.framework/Resources/library --no-vignettes --timings autonomics_1.14.8.tar.gz StartedAt: 2025-01-31 11:30:28 -0500 (Fri, 31 Jan 2025) EndedAt: 2025-01-31 11:45:23 -0500 (Fri, 31 Jan 2025) EllapsedTime: 895.0 seconds RetCode: 0 Status: OK CheckDir: autonomics.Rcheck Warnings: 0