Package: autonomics Version: 1.14.8 Command: /Library/Frameworks/R.framework/Resources/bin/R CMD build --keep-empty-dirs --no-resave-data autonomics StartedAt: 2025-01-30 19:06:23 -0500 (Thu, 30 Jan 2025) EndedAt: 2025-01-30 19:08:39 -0500 (Thu, 30 Jan 2025) EllapsedTime: 135.2 seconds RetCode: 0 Status: OK PackageFile: autonomics_1.14.8.tar.gz PackageFileSize: 2.518 MiB