Package: atena Version: 1.12.0 Command: F:\biocbuild\bbs-3.20-bioc\R\bin\R.exe CMD check --no-multiarch --install=check:atena.install-out.txt --library=F:\biocbuild\bbs-3.20-bioc\R\library --no-vignettes --timings atena_1.12.0.tar.gz StartedAt: 2025-01-30 23:28:16 -0500 (Thu, 30 Jan 2025) EndedAt: 2025-01-30 23:35:58 -0500 (Thu, 30 Jan 2025) EllapsedTime: 461.9 seconds RetCode: 0 Status: OK CheckDir: atena.Rcheck Warnings: 0