Package: atena Version: 1.12.0 Command: rm -rf atena.buildbin-libdir && mkdir atena.buildbin-libdir && F:\biocbuild\bbs-3.20-bioc\R\bin\R.exe CMD INSTALL --build --library=atena.buildbin-libdir atena_1.12.0.tar.gz StartedAt: 2025-01-31 08:10:16 -0500 (Fri, 31 Jan 2025) EndedAt: 2025-01-31 08:11:16 -0500 (Fri, 31 Jan 2025) EllapsedTime: 60.4 seconds RetCode: 0 Status: OK PackageFile: atena_1.12.0.zip PackageFileSize: 1.713 MiB