Package: atSNP Version: 1.22.0 Command: F:\biocbuild\bbs-3.20-bioc\R\bin\R.exe CMD check --no-multiarch --install=check:atSNP.install-out.txt --library=F:\biocbuild\bbs-3.20-bioc\R\library --no-vignettes --timings atSNP_1.22.0.tar.gz StartedAt: 2025-01-30 23:28:19 -0500 (Thu, 30 Jan 2025) EndedAt: 2025-01-30 23:36:57 -0500 (Thu, 30 Jan 2025) EllapsedTime: 518.4 seconds RetCode: 0 Status: OK CheckDir: atSNP.Rcheck Warnings: 0