Package: assorthead Version: 1.0.0 Command: /home/biocbuild/R/R/bin/R CMD check --install=check:assorthead.install-out.txt --library=/home/biocbuild/R/R/site-library --no-vignettes --timings assorthead_1.0.0.tar.gz StartedAt: 2024-11-20 05:13:03 -0000 (Wed, 20 Nov 2024) EndedAt: 2024-11-20 05:13:20 -0000 (Wed, 20 Nov 2024) EllapsedTime: 17.0 seconds RetCode: 0 Status: OK CheckDir: assorthead.Rcheck Warnings: 0