Package: assorthead Version: 1.0.1 Command: /Library/Frameworks/R.framework/Resources/bin/R CMD INSTALL assorthead StartedAt: 2025-01-30 15:02:50 -0500 (Thu, 30 Jan 2025) EndedAt: 2025-01-30 15:02:53 -0500 (Thu, 30 Jan 2025) EllapsedTime: 2.8 seconds RetCode: 0 Status: OK