Package: artMS Version: 1.24.0 Command: /home/biocbuild/bbs-3.20-bioc/R/bin/R CMD check --install=check:artMS.install-out.txt --library=/home/biocbuild/bbs-3.20-bioc/R/site-library --timings artMS_1.24.0.tar.gz StartedAt: 2025-01-30 19:55:39 -0500 (Thu, 30 Jan 2025) EndedAt: 2025-01-30 19:58:38 -0500 (Thu, 30 Jan 2025) EllapsedTime: 179.2 seconds RetCode: 0 Status: OK CheckDir: artMS.Rcheck Warnings: 0