Package: arrayQuality Version: 1.84.0 Command: F:\biocbuild\bbs-3.20-bioc\R\bin\R.exe CMD check --no-multiarch --install=check:arrayQuality.install-out.txt --library=F:\biocbuild\bbs-3.20-bioc\R\library --no-vignettes --timings arrayQuality_1.84.0.tar.gz StartedAt: 2025-01-30 23:25:16 -0500 (Thu, 30 Jan 2025) EndedAt: 2025-01-30 23:26:09 -0500 (Thu, 30 Jan 2025) EllapsedTime: 53.3 seconds RetCode: 0 Status: WARNINGS CheckDir: arrayQuality.Rcheck Warnings: 1