Package: annotatr Version: 1.32.0 Command: /home/biocbuild/R/R/bin/R CMD INSTALL annotatr StartedAt: 2025-01-30 20:30:04 -0000 (Thu, 30 Jan 2025) EndedAt: 2025-01-30 20:30:52 -0000 (Thu, 30 Jan 2025) EllapsedTime: 48.2 seconds RetCode: 0 Status: OK