Package: annotatr Version: 1.32.0 Command: /Library/Frameworks/R.framework/Resources/bin/R CMD build --keep-empty-dirs --no-resave-data annotatr StartedAt: 2025-01-30 17:07:10 -0500 (Thu, 30 Jan 2025) EndedAt: 2025-01-30 17:11:40 -0500 (Thu, 30 Jan 2025) EllapsedTime: 270.7 seconds RetCode: 0 Status: OK PackageFile: annotatr_1.32.0.tar.gz PackageFileSize: 2.449 MiB