Package: annotatr Version: 1.32.0 Command: rm -rf annotatr.buildbin-libdir && mkdir annotatr.buildbin-libdir && /Users/biocbuild/BBS/utils/build-universal.sh annotatr_1.32.0.tar.gz /Library/Frameworks/R.framework/Resources/bin/R annotatr.buildbin-libdir StartedAt: 2025-02-01 13:53:14 -0500 (Sat, 01 Feb 2025) EndedAt: 2025-02-01 13:54:09 -0500 (Sat, 01 Feb 2025) EllapsedTime: 54.8 seconds RetCode: 0 Status: OK PackageFile: annotatr_1.32.0.tgz PackageFileSize: 2.668 MiB