Package: annotate Version: 1.84.0 Command: /Library/Frameworks/R.framework/Resources/bin/R CMD check --install=check:annotate.install-out.txt --library=/Library/Frameworks/R.framework/Resources/library --no-vignettes --timings annotate_1.84.0.tar.gz StartedAt: 2025-01-31 10:58:31 -0500 (Fri, 31 Jan 2025) EndedAt: 2025-01-31 11:02:02 -0500 (Fri, 31 Jan 2025) EllapsedTime: 210.2 seconds RetCode: 0 Status: OK CheckDir: annotate.Rcheck Warnings: 0