Package: annotate Version: 1.84.0 Command: rm -rf annotate.buildbin-libdir && mkdir annotate.buildbin-libdir && /Users/biocbuild/BBS/utils/build-universal.sh annotate_1.84.0.tar.gz /Library/Frameworks/R.framework/Resources/bin/R annotate.buildbin-libdir StartedAt: 2025-02-01 13:52:49 -0500 (Sat, 01 Feb 2025) EndedAt: 2025-02-01 13:53:11 -0500 (Sat, 01 Feb 2025) EllapsedTime: 21.4 seconds RetCode: 0 Status: OK PackageFile: annotate_1.84.0.tgz PackageFileSize: 2.077 MiB