Package: annmap Version: 1.48.0 Command: /home/biocbuild/R/R/bin/R CMD INSTALL annmap StartedAt: 2025-01-30 20:52:25 -0000 (Thu, 30 Jan 2025) EndedAt: 2025-01-30 20:52:53 -0000 (Thu, 30 Jan 2025) EllapsedTime: 27.5 seconds RetCode: 0 Status: OK