Package: altcdfenvs Version: 2.68.0 Command: F:\biocbuild\bbs-3.20-bioc\R\bin\R.exe CMD INSTALL altcdfenvs StartedAt: 2025-01-30 15:36:38 -0500 (Thu, 30 Jan 2025) EndedAt: 2025-01-30 15:37:18 -0500 (Thu, 30 Jan 2025) EllapsedTime: 39.4 seconds RetCode: 0 Status: OK