Package: alabaster.string Version: 1.6.0 Command: /Library/Frameworks/R.framework/Resources/bin/R CMD INSTALL alabaster.string StartedAt: 2025-01-30 15:25:24 -0500 (Thu, 30 Jan 2025) EndedAt: 2025-01-30 15:25:37 -0500 (Thu, 30 Jan 2025) EllapsedTime: 13.6 seconds RetCode: 0 Status: OK