Package: alabaster.string Version: 1.6.0 Command: rm -rf alabaster.string.buildbin-libdir && mkdir alabaster.string.buildbin-libdir && /Users/biocbuild/BBS/utils/build-universal.sh alabaster.string_1.6.0.tar.gz /Library/Frameworks/R.framework/Resources/bin/R alabaster.string.buildbin-libdir StartedAt: 2025-02-01 13:51:21 -0500 (Sat, 01 Feb 2025) EndedAt: 2025-02-01 13:51:36 -0500 (Sat, 01 Feb 2025) EllapsedTime: 14.3 seconds RetCode: 0 Status: OK PackageFile: alabaster.string_1.6.0.tgz PackageFileSize: 268.2 KiB