Package: alabaster.schemas Version: 1.6.0 Command: /home/biocbuild/R/R/bin/R CMD check --install=check:alabaster.schemas.install-out.txt --library=/home/biocbuild/R/R/site-library --no-vignettes --timings alabaster.schemas_1.6.0.tar.gz StartedAt: 2025-01-31 03:44:55 -0000 (Fri, 31 Jan 2025) EndedAt: 2025-01-31 03:45:10 -0000 (Fri, 31 Jan 2025) EllapsedTime: 15.0 seconds RetCode: 0 Status: OK CheckDir: alabaster.schemas.Rcheck Warnings: 0