Package: alabaster.schemas Version: 1.6.0 Command: F:\biocbuild\bbs-3.20-bioc\R\bin\R.exe CMD INSTALL alabaster.schemas StartedAt: 2025-01-30 15:18:43 -0500 (Thu, 30 Jan 2025) EndedAt: 2025-01-30 15:19:10 -0500 (Thu, 30 Jan 2025) EllapsedTime: 27.4 seconds RetCode: 0 Status: OK