Package: alabaster.schemas Version: 1.6.0 Command: /Library/Frameworks/R.framework/Resources/bin/R CMD build --keep-empty-dirs --no-resave-data alabaster.schemas StartedAt: 2025-01-30 17:03:57 -0500 (Thu, 30 Jan 2025) EndedAt: 2025-01-30 17:04:05 -0500 (Thu, 30 Jan 2025) EllapsedTime: 8.5 seconds RetCode: 0 Status: OK PackageFile: alabaster.schemas_1.6.0.tar.gz PackageFileSize: 239.9 KiB