Package: alabaster.bumpy Version: 1.6.0 Command: F:\biocbuild\bbs-3.20-bioc\R\bin\R.exe CMD INSTALL alabaster.bumpy StartedAt: 2025-01-30 15:33:18 -0500 (Thu, 30 Jan 2025) EndedAt: 2025-01-30 15:33:38 -0500 (Thu, 30 Jan 2025) EllapsedTime: 20.3 seconds RetCode: 0 Status: OK