Package: affyILM Version: 1.58.0 Command: chmod a+r affyILM -R && F:\biocbuild\bbs-3.20-bioc\R\bin\R.exe CMD build --keep-empty-dirs --no-resave-data affyILM StartedAt: 2025-01-30 17:13:04 -0500 (Thu, 30 Jan 2025) EndedAt: 2025-01-30 17:14:27 -0500 (Thu, 30 Jan 2025) EllapsedTime: 82.2 seconds RetCode: 0 Status: OK PackageFile: affyILM_1.58.0.tar.gz PackageFileSize: 122.9 KiB